BEGIN:VCALENDAR
VERSION:2.0
PRODID:-//Southeast Florida Regional Climate Compact - ECPv6.15.18//NONSGML v1.0//EN
CALSCALE:GREGORIAN
METHOD:PUBLISH
X-WR-CALNAME:Southeast Florida Regional Climate Compact
X-ORIGINAL-URL:https://southeastfloridaclimatecompact.org
X-WR-CALDESC:Events for Southeast Florida Regional Climate Compact
REFRESH-INTERVAL;VALUE=DURATION:PT1H
X-Robots-Tag:noindex
X-PUBLISHED-TTL:PT1H
BEGIN:VTIMEZONE
TZID:America/New_York
BEGIN:DAYLIGHT
TZOFFSETFROM:-0500
TZOFFSETTO:-0400
TZNAME:EDT
DTSTART:20170312T070000
END:DAYLIGHT
BEGIN:STANDARD
TZOFFSETFROM:-0400
TZOFFSETTO:-0500
TZNAME:EST
DTSTART:20171105T060000
END:STANDARD
BEGIN:DAYLIGHT
TZOFFSETFROM:-0500
TZOFFSETTO:-0400
TZNAME:EDT
DTSTART:20180311T070000
END:DAYLIGHT
BEGIN:STANDARD
TZOFFSETFROM:-0400
TZOFFSETTO:-0500
TZNAME:EST
DTSTART:20181104T060000
END:STANDARD
BEGIN:DAYLIGHT
TZOFFSETFROM:-0500
TZOFFSETTO:-0400
TZNAME:EDT
DTSTART:20190310T070000
END:DAYLIGHT
BEGIN:STANDARD
TZOFFSETFROM:-0400
TZOFFSETTO:-0500
TZNAME:EST
DTSTART:20191103T060000
END:STANDARD
END:VTIMEZONE
BEGIN:VEVENT
DTSTART;TZID=America/New_York:20180125T080000
DTEND;TZID=America/New_York:20180126T170000
DTSTAMP:20260420T053837
CREATED:20171207T193339Z
LAST-MODIFIED:20171207T193339Z
UID:14549-1516867200-1516986000@southeastfloridaclimatecompact.org
SUMMARY:Operationalizing Resilience Summit
DESCRIPTION:The two-day summit\, hosted by the Resilient Utility Coalition\, will focus on putting resilience best practices to work within water utilities. Program tracks will build on each other progressively through a series of presentations geared toward identifying\, planning\, implementing\, and operationalizing resilience. \nRegister here. \n 
URL:https://southeastfloridaclimatecompact.org/event/operationalizing-resilience-summit/
ATTACH;FMTTYPE=image/png:https://southeastfloridaclimatecompact.org/wp-content/uploads/2017/12/Capture.png
END:VEVENT
END:VCALENDAR