BEGIN:VCALENDAR
VERSION:2.0
PRODID:-//Southeast Florida Regional Climate Compact - ECPv6.15.18//NONSGML v1.0//EN
CALSCALE:GREGORIAN
METHOD:PUBLISH
X-WR-CALNAME:Southeast Florida Regional Climate Compact
X-ORIGINAL-URL:https://southeastfloridaclimatecompact.org
X-WR-CALDESC:Events for Southeast Florida Regional Climate Compact
REFRESH-INTERVAL;VALUE=DURATION:PT1H
X-Robots-Tag:noindex
X-PUBLISHED-TTL:PT1H
BEGIN:VTIMEZONE
TZID:America/New_York
BEGIN:DAYLIGHT
TZOFFSETFROM:-0500
TZOFFSETTO:-0400
TZNAME:EDT
DTSTART:20170312T070000
END:DAYLIGHT
BEGIN:STANDARD
TZOFFSETFROM:-0400
TZOFFSETTO:-0500
TZNAME:EST
DTSTART:20171105T060000
END:STANDARD
BEGIN:DAYLIGHT
TZOFFSETFROM:-0500
TZOFFSETTO:-0400
TZNAME:EDT
DTSTART:20180311T070000
END:DAYLIGHT
BEGIN:STANDARD
TZOFFSETFROM:-0400
TZOFFSETTO:-0500
TZNAME:EST
DTSTART:20181104T060000
END:STANDARD
BEGIN:DAYLIGHT
TZOFFSETFROM:-0500
TZOFFSETTO:-0400
TZNAME:EDT
DTSTART:20190310T070000
END:DAYLIGHT
BEGIN:STANDARD
TZOFFSETFROM:-0400
TZOFFSETTO:-0500
TZNAME:EST
DTSTART:20191103T060000
END:STANDARD
END:VTIMEZONE
BEGIN:VEVENT
DTSTART;TZID=America/New_York:20180421T140000
DTEND;TZID=America/New_York:20180519T180000
DTSTAMP:20260423T060359
CREATED:20180312T184835Z
LAST-MODIFIED:20180312T184835Z
UID:15198-1524319200-1526752800@southeastfloridaclimatecompact.org
SUMMARY:Celebrating Earth Day at the City of Doral
DESCRIPTION:The City of Doral Public Works Department invites you to celebrate and participate in the 8th Annual City of Doral Earth Day. \nThis free family Eco Fair commemorates Earth Day. It is a special event and community tradition that serves to educate the community on the importance of recycling and water and energy conservation and to promote Beautiful City of Doral initiatives.
URL:https://southeastfloridaclimatecompact.org/event/celebrating-earth-day-city-doral/
END:VEVENT
END:VCALENDAR