BEGIN:VCALENDAR
VERSION:2.0
PRODID:-//Southeast Florida Regional Climate Compact - ECPv6.15.18//NONSGML v1.0//EN
CALSCALE:GREGORIAN
METHOD:PUBLISH
X-WR-CALNAME:Southeast Florida Regional Climate Compact
X-ORIGINAL-URL:https://southeastfloridaclimatecompact.org
X-WR-CALDESC:Events for Southeast Florida Regional Climate Compact
REFRESH-INTERVAL;VALUE=DURATION:PT1H
X-Robots-Tag:noindex
X-PUBLISHED-TTL:PT1H
BEGIN:VTIMEZONE
TZID:America/New_York
BEGIN:DAYLIGHT
TZOFFSETFROM:-0500
TZOFFSETTO:-0400
TZNAME:EDT
DTSTART:20170312T070000
END:DAYLIGHT
BEGIN:STANDARD
TZOFFSETFROM:-0400
TZOFFSETTO:-0500
TZNAME:EST
DTSTART:20171105T060000
END:STANDARD
BEGIN:DAYLIGHT
TZOFFSETFROM:-0500
TZOFFSETTO:-0400
TZNAME:EDT
DTSTART:20180311T070000
END:DAYLIGHT
BEGIN:STANDARD
TZOFFSETFROM:-0400
TZOFFSETTO:-0500
TZNAME:EST
DTSTART:20181104T060000
END:STANDARD
BEGIN:DAYLIGHT
TZOFFSETFROM:-0500
TZOFFSETTO:-0400
TZNAME:EDT
DTSTART:20190310T070000
END:DAYLIGHT
BEGIN:STANDARD
TZOFFSETFROM:-0400
TZOFFSETTO:-0500
TZNAME:EST
DTSTART:20191103T060000
END:STANDARD
END:VTIMEZONE
BEGIN:VEVENT
DTSTART;VALUE=DATE:20181024
DTEND;VALUE=DATE:20181026
DTSTAMP:20260425T120800
CREATED:20171215T135642Z
LAST-MODIFIED:20231114T194840Z
UID:14713-1540339200-1540511999@southeastfloridaclimatecompact.org
SUMMARY:10th Annual Southeast Florida Regional Climate Leadership Summit
DESCRIPTION:Miami-Dade County hosted the 10th Annual Southeast Florida Regional Climate Leadership Summit on October 24-25\, 2018\, at the Miami Beach Convention Center. We celebrated a decade of progress with critical discussions on adaptation\, innovation\, and resilience. The Summit featured keynotes and panels with local\, state\, and federal government officials\, business and nonprofit leaders\, and other experts discussing plans to ensure the region not only survives\, but thrives\, in the face of sea level rise and other climate impacts. \nThis annual event is coordinated by the Southeast Florida Regional Climate Change Compact\, a partnership between Broward\, Miami-Dade\, Monroe\, and Palm Beach counties; their municipalities; and other partners. The Climate Leadership Summit is a major regional event focused on facilitating climate-related collaboration and knowledge sharing. The Summit attracts innovative thinkers and leaders from business\, government\, academia\, and the nonprofit community to exchange ideas and dialogue through panel discussions and networking breaks. \nSoutheast Florida sea level rise compact a model for other regions — Miami Herald \nRegion’s business leaders must step up\, take action on sea level rise — The Sun Sentinel \nSouth Florida leads on addressing climate risk\, says Florida’s head of environmental protection — The Invading Sea \nSouth Florida climate summit will celebrate a decade of collaboration and progress — The Invading Sea \n  \nDay 1 – October 24\, 2018 \n\n\n\n\n\n7:30 – 9:00 am      Registration & Welcome Breakfast \n9:00 – 9:20 am     Welcome and Opening Remarks  (Watch video here) \n\nThe Honorable Carlos A. Gimenez\nThe Honorable Dan Gelber\n\n9:20 – 9:35 am     Ten Compact Summits Later (Watch video here) \n\nSteve Adams\, Director of Urban Resilience\, Institute for Sustainable Communities\n\n9:35 – 10:00 am    The View from Philanthropy: Adapting and Rising to the Challenge Together (Watch video here) \n\nShamar Bibbins\, Senior Program Officer for Environment Program\, The Kresge Foundation\n\n10:00 – 10:30 am      Networking Break \n10:30 – 11:30 am     Resilience as a Discipline for the Future We Want (Watch video here) \n\nModerator: Susanne Torriente\, Assistant City Manager/Chief Resilience Officer\, City of Miami Beach\nHardeep Anand\, Deputy Director of Miami-Dade Water & Sewer Department\, Miami-Dade County\nJoyce Coffee\, President\, Climate Resilience Consulting\nMegan Houston\, Chief Resilience Officer\, Palm Beach County\nGreg West\, President & Chief Development Officer\, ZOM\n\n11:30 am – 12:30 pm   Rare Collaboration: Editors Work Together to Raise the Alert on Sea Level Rise (Watch video here) \n\nModerator: Tom O’Hara\, Editor\, The Invading Sea Collaborative\nNancy Ancrum\, Editorial Board Editor\, Miami Herald\nRick Christie\, Editorial Page Editor\, Palm Beach Post\nTom Hudson\, Vice President of News and Special Correspondent\, WLRN\nRosemary O’Hara\, Editorial Page Editor\, South Florida Sun Sentinel\n\n12:30 – 1:45 pm    Lunch \n1:45 – 2:45 pm   Resilient Mobility Transitions into the Future (Watch video here) \n\nModerator: Aileen Bouclé\nAnuj Chokshi\, Senior Project Manager\, Florida Power & Light Company\nBill Cross\, Planning and Programming Deputy Executive Director\, Broward County Metropolitan Planning Organization\nJose Gonzalez\, Senior Vice President\, Florida East Coast Industries\nNick Uhren\, Executive Director\, Palm Beach Transportation Planning Agency\n\n2:45 – 3:10 pm      The Real Measure of a Resilient Region: Addressing the Vulnerabilities of All (Watch video here) \n\nJacqueline Patterson\, Director of Environmental and Climate Justice Program\, NAACP\n\n3:10 – 3:30 pm     Networking Break \n3:30 – 4:30 pm     Investing in Our People: A Climate Conscious Approach to Healthy Communities (Watch video here) \n\nModerator: Priya Gandhi\, Research Associate\, Robert Wood Johnson Foundation\nCheryl Holder\, Program Director of Panther College of Medicine Communities\, Florida International University\nMark A. Mitchell\, Associate Professor\, Climate Change\, Energy & Environmental Health Equity\, George Mason University\, National Medical Association\nWilliam Petrie\, Mosquito Control and Habitat Management Division Director\, Miami-Dade County\n\n4:30 – 5:30 pm      Unlocking the Potential of Existing Buildings (Watch video here) \n\nModerator: Elizabeth Wheaton\, Environmental and Sustainability Director\, City of Miami Beach\nKatie Bergfeld\, Energy Benchmarking Program Specialist\, Department of Energy & Environment\, Washington\, D.C.\nTyson Grinstead\, Director of Public Policy\, Sunrun\nAvra Jain\, Founder\, The Vagabond Group\n\n5:30 – 7:00 pm      Welcome Reception \nDay 2 – October 25\, 2018 \n8:30 – 9:30 am      Registration & Breakfast \n9:30 – 9:45 am     Welcome and Morning Remarks (Watch video here) \n\nThe Honorable Harvey Ruvin\n\n9:45 – 10:10 am     Climate Resilience & Equity in Miami (Watch video here) \n\nOtis Rolley\, Managing Director\, North America\, 100 Resilient Cities\n\n10:10 – 10:30 am    Tampa Bay Regional Resiliency Coalition Announcement (Watch video here) \n\nJennifer L. Jurado\, Director and Chief Resilience Officer\, Environmental Planning and Community Resilience Division\, Broward County\nJanet C. Long\, District 1 Commissioner\, Pinellas County\, Florida\n\n10:30 – 11:00 am      Networking Break \n11:00 – 12:00 am     The Business Case for Resilience (Watch video here) \n\nModerator: Dan Lindblade\, President and CEO\, Greater Fort Lauderdale Chamber of Commerce\nIrela Bagué\, Resilience Committee Chair\, Greater Miami Chamber of Commerce\nAlec Bogdanoff\, Coastal Resiliency Committee Chair\, Greater Fort Lauderdale Chamber of Commerce\nDennis Grady\, President and CEO\, Chamber of Commerce of the Palm Beaches\nRick Reikenis\, President\, Reikenis & Associates\, LLC\, Consulting Engineers\nAlfred Sanchez\, President & CEO\, Greater Miami Chamber of Commerce\n\n12:00 am – 12:20 pm   Florida’s Resilient Coastlines (Watch video here) \n\nNoah Valenstein\, Secretary\, Florida Department of Environmental Protection\n\n12:20 – 1:30 pm    Networking Lunch \n1:30 – 2:30 pm   Progress in Addressing Regional Climate Risk (Watch video here) \n\nModerator: Frank Rollason\, Director\, Office of Emergency Management\, Miami-Dade County\nNicole Boothman – Shepard\, Vice-President\, Resilience and Recovery\nCarlos J. Castillo\, Associate Administrator for Resilience\, Federal Emergency Management Agency\nRoman Gastesi\, County Administrator\, Monroe County\n\n2:30 – 3:30 pm      A View from the Dais (Watch video here) \n\nModerator: Kristin Jacobs\, Florida House of Representatives and Executive Director\, Resiliency Florida\nVerdenia Baker\, Administrator\, Palm Beach County\nBeam Furr\, Mayor\, Broward County\nCarlos A. Gimenez\, Mayor\, Miami-Dade County\nDavid Rice\, Mayor\, Monroe County\n\n3:30 – 3:45 pm     Closing Remarks
URL:https://southeastfloridaclimatecompact.org/event/10th-annual-summit/
CATEGORIES:Compact Events,Summits
ATTACH;FMTTYPE=image/jpeg:https://southeastfloridaclimatecompact.org/wp-content/uploads/2017/12/066-RH1_9662.jpg
END:VEVENT
END:VCALENDAR